BEGIN:VCALENDAR
VERSION:2.0
PRODID:icalendar-ruby
CALSCALE:GREGORIAN
METHOD:PUBLISH
BEGIN:VEVENT
DTSTAMP:20210226T183249Z
UID:http://www.brianohalloranandco.com.au/property?property_id=695908
DTSTART:20210319T130000
DTEND:20210319T133000
CLASS:PUBLIC
CREATED:20210219T134546
DESCRIPTION: 
LAST-MODIFIED:20210219T140425
LOCATION:Warrong Siding Road\, WARRONG VIC 3283\, Australia
SUMMARY:Warrong Siding Road\,  Auction
URL:http://www.brianohalloranandco.com.au/property?property_id=695908
END:VEVENT
END:VCALENDAR
